BEGIN:VCALENDAR
PRODID:-//Microsoft Corporation//Outlook 12.0 MIMEDIR//EN
VERSION:2.0
METHOD:PUBLISH
X-MS-OLK-FORCEINSPECTOROPEN:TRUE
BEGIN:VEVENT
CLASS:PUBLIC
DESCRIPTION: 
DTEND:20260313T22:00:00Z
DTSTAMP:20260419T15:25:08Z
DTSTART:20260309T15:00:00Z
LAST-MODIFIED:20260419T15:25:08Z
LOCATION: Arapahoe Basin Ski Area[location]
SUMMARY;LANGUAGE=en-us:RM - Alpine 301 Cert Camp
UID:20260419T15:25:08Z-17622-2016195716
END:VEVENT
END:VCALENDAR
