BEGIN:VCALENDAR
PRODID:-//Microsoft Corporation//Outlook 12.0 MIMEDIR//EN
VERSION:2.0
METHOD:PUBLISH
X-MS-OLK-FORCEINSPECTOROPEN:TRUE
BEGIN:VEVENT
CLASS:PUBLIC
DESCRIPTION: 
DTEND:20260331T22:00:00Z
DTSTAMP:20260419T11:55:34Z
DTSTART:20260331T14:45:00Z
LAST-MODIFIED:20260419T11:55:34Z
LOCATION: Breckenridge Ski Area[location]
SUMMARY;LANGUAGE=en-us:RM - Adaptive Alpine: Cognitive/Visually Impaired Level 1 Assessment
UID:20260419T11:55:34Z-17479-1035926879
END:VEVENT
END:VCALENDAR
