BEGIN:VCALENDAR
PRODID:-//Microsoft Corporation//Outlook 12.0 MIMEDIR//EN
VERSION:2.0
METHOD:PUBLISH
X-MS-OLK-FORCEINSPECTOROPEN:TRUE
BEGIN:VEVENT
CLASS:PUBLIC
DESCRIPTION: 
DTEND:20260329T22:00:00Z
DTSTAMP:20260419T11:58:25Z
DTSTART:20260328T15:00:00Z
LAST-MODIFIED:20260419T11:58:25Z
LOCATION: Taos Ski Area[location]
SUMMARY;LANGUAGE=en-us:RM - Alpine The Rocky Mountain EDWIN T. Clinic - Southern District Spring Fling - Cancelled
UID:20260419T11:58:25Z-17474-1549559932
END:VEVENT
END:VCALENDAR
