BEGIN:VCALENDAR
PRODID:-//Microsoft Corporation//Outlook 12.0 MIMEDIR//EN
VERSION:2.0
METHOD:PUBLISH
X-MS-OLK-FORCEINSPECTOROPEN:TRUE
BEGIN:VEVENT
CLASS:PUBLIC
DESCRIPTION: 
DTEND:20260311T02:30:00Z
DTSTAMP:20260421T10:25:02Z
DTSTART:20260311T00:00:00Z
LAST-MODIFIED:20260421T10:25:02Z
LOCATION: Online[location]
SUMMARY;LANGUAGE=en-us:RM - Webinar: Analyze & Apply - Movement Analysis of Skiers with Cognitive and/or Visual Diagnoses
UID:20260421T10:25:02Z-17458-1543059179
END:VEVENT
END:VCALENDAR
