BEGIN:VCALENDAR
PRODID:-//Microsoft Corporation//Outlook 12.0 MIMEDIR//EN
VERSION:2.0
METHOD:PUBLISH
X-MS-OLK-FORCEINSPECTOROPEN:TRUE
BEGIN:VEVENT
CLASS:PUBLIC
DESCRIPTION: 
DTEND:20260310T22:00:00Z
DTSTAMP:20260419T15:22:03Z
DTSTART:20260309T15:00:00Z
LAST-MODIFIED:20260419T15:22:03Z
LOCATION: Breckenridge Ski Area[location]
SUMMARY;LANGUAGE=en-us:RM - Alpine Cruising the Groomers
UID:20260419T15:22:03Z-17454-616840954
END:VEVENT
END:VCALENDAR
