BEGIN:VCALENDAR
PRODID:-//Microsoft Corporation//Outlook 12.0 MIMEDIR//EN
VERSION:2.0
METHOD:PUBLISH
X-MS-OLK-FORCEINSPECTOROPEN:TRUE
BEGIN:VEVENT
CLASS:PUBLIC
DESCRIPTION: 
DTEND:20260304T23:00:00Z
DTSTAMP:20260421T10:35:12Z
DTSTART:20260304T15:45:00Z
LAST-MODIFIED:20260421T10:35:12Z
LOCATION: Angel Fire Ski Area[location]
SUMMARY;LANGUAGE=en-us:RM - Alpine Level 2 Teach Assessment
UID:20260421T10:35:12Z-17444-1373296554
END:VEVENT
END:VCALENDAR
