BEGIN:VCALENDAR
PRODID:-//Microsoft Corporation//Outlook 12.0 MIMEDIR//EN
VERSION:2.0
METHOD:PUBLISH
X-MS-OLK-FORCEINSPECTOROPEN:TRUE
BEGIN:VEVENT
CLASS:PUBLIC
DESCRIPTION: 
DTEND:20260303T23:00:00Z
DTSTAMP:20260421T10:32:41Z
DTSTART:20260302T16:00:00Z
LAST-MODIFIED:20260421T10:32:41Z
LOCATION: Winter Park Ski Area[location]
SUMMARY;LANGUAGE=en-us:RM - Telemark Trainer Prep
UID:20260421T10:32:41Z-17116-386173321
END:VEVENT
END:VCALENDAR
