BEGIN:VCALENDAR
PRODID:-//Microsoft Corporation//Outlook 12.0 MIMEDIR//EN
VERSION:2.0
METHOD:PUBLISH
X-MS-OLK-FORCEINSPECTOROPEN:TRUE
BEGIN:VEVENT
CLASS:PUBLIC
DESCRIPTION: ﻿﻿
DTEND:20260311T22:00:00Z
DTSTAMP:20260419T15:25:02Z
DTSTART:20260309T14:45:00Z
LAST-MODIFIED:20260419T15:25:02Z
LOCATION: Eldora Mountain Ski Area[location]
SUMMARY;LANGUAGE=en-us:RM - Snowboard Freestyle Specialist 1
UID:20260419T15:25:02Z-16857-479425660
END:VEVENT
END:VCALENDAR
